BEGIN:VCALENDAR
PRODID:-//eluceo/ical//2.0/EN
VERSION:2.0
CALSCALE:GREGORIAN
BEGIN:VEVENT
UID:23f3a46a62cb8e9a622a5da45c175f3b
DTSTAMP:20260421T164037Z
SUMMARY:Tree of Life Congregation: The Big Nosh
DESCRIPTION:Columbia Jewish Federation\nCommunity Calendar\nhttps://jewishc
 olumbia.org/community-calendar/tree-of-life-congregation-the-big-nosh-1737
 600936\n\nThe Big Nosh is a wonderful opportunity for our community to com
 e together and enjoy a variety of Eastern European Jewish dishes like tzim
 mes and kugel\, alongside other traditional favorites such as corned beef 
 sandwiches and matzah ball soup. \nWe’re also excited to feature our sig
 nature bake sale with homemade challah\, rugelach\, and an assortment of d
 elightful cakes and cookies.
DTSTART;TZID=America/New_York:20250330T110000
DTEND;TZID=America/New_York:20250330T140000
END:VEVENT
END:VCALENDAR
