BEGIN:VCALENDAR
PRODID:-//eluceo/ical//2.0/EN
VERSION:2.0
CALSCALE:GREGORIAN
BEGIN:VEVENT
UID:5454796ae2a967bf20f701cc7678b030
DTSTAMP:20260421T145718Z
SUMMARY:Tree of Life Congregation: Festival Service in the Sukkah
DESCRIPTION:Columbia Jewish Federation\nCommunity Calendar\nhttps://jewishc
 olumbia.org/community-calendar/tree-of-life-congregation-festival-service-
 in-the-sukkah-1662497228\n\nFestival service in the Sukkah
DTSTART;TZID=America/New_York:20221009T190000
DTEND;TZID=America/New_York:20221009T200000
END:VEVENT
END:VCALENDAR
