BEGIN:VCALENDAR
PRODID:-//eluceo/ical//2.0/EN
VERSION:2.0
CALSCALE:GREGORIAN
BEGIN:VEVENT
UID:0be66d596cc5e07bcbb970ee30ad686c
DTSTAMP:20260421T164827Z
SUMMARY:Tree of Life Brotherhood Dinner and a movie
DESCRIPTION:Columbia Jewish Federation\nCommunity Calendar\nhttps://jewishc
 olumbia.org/community-calendar/tree-of-life-brotherhood-dinner-and-a-movie
 -1675524919\n\nSpaghetti dinner and a movie
DTSTART;TZID=America/New_York:20230527T180000
DTEND;TZID=America/New_York:20230527T210000
END:VEVENT
END:VCALENDAR
