BEGIN:VCALENDAR
PRODID:-//eluceo/ical//2.0/EN
VERSION:2.0
CALSCALE:GREGORIAN
BEGIN:VEVENT
UID:d97a85aef1d0a8b3e93ea56b7b5f58ea
DTSTAMP:20260425T231012Z
SUMMARY:Tot Shabbat
DESCRIPTION:Columbia Jewish Federation\nCommunity Calendar\nhttps://jewishc
 olumbia.org/community-calendar/tot-shabbat-1414430236\n\nCome enjoy a spec
 tacular Shabbat program geared for kids ages 3-10. Shabbat games\, stories
 \, Shabbat party!
DTSTART;TZID=America/New_York:20150214T103000
DTEND;TZID=America/New_York:20150214T120000
END:VEVENT
END:VCALENDAR
