BEGIN:VCALENDAR
PRODID:-//eluceo/ical//2.0/EN
VERSION:2.0
CALSCALE:GREGORIAN
BEGIN:VEVENT
UID:12ed1a7c9c1c5e4167616804b6831be9
DTSTAMP:20260424T190434Z
SUMMARY:Tot Shabbat
DESCRIPTION:Columbia Jewish Federation\nCommunity Calendar\nhttps://jewishc
 olumbia.org/community-calendar/tot-shabbat-1414430199\n\nCome enjoy a spec
 tacular Shabbat program geared for kids ages 3-10. Shabbat games\, stories
 \, Shabbat party!
DTSTART;TZID=America/New_York:20150110T103000
DTEND;TZID=America/New_York:20150110T120000
END:VEVENT
END:VCALENDAR
