BEGIN:VCALENDAR
PRODID:-//eluceo/ical//2.0/EN
VERSION:2.0
CALSCALE:GREGORIAN
BEGIN:VEVENT
UID:d3b3241cb4470fb3a3babd78f24d7854
DTSTAMP:20260425T215725Z
SUMMARY:The Last Jewish Mobster: Myron Sugerman
DESCRIPTION:Columbia Jewish Federation\nCommunity Calendar\nhttps://jewishc
 olumbia.org/community-calendar/the-last-jewish-mobster-myron-sugerman-1524
 171105\n\nThe Last Jewish Mobster: Myron Sugerman
DTSTART;TZID=America/New_York:20180524T190000
DTEND;TZID=America/New_York:20180524T210000
END:VEVENT
END:VCALENDAR
