BEGIN:VCALENDAR
PRODID:-//eluceo/ical//2.0/EN
VERSION:2.0
CALSCALE:GREGORIAN
BEGIN:VEVENT
UID:6662e66f47b16ba36fa1e1b73c627b7a
DTSTAMP:20260420T033721Z
SUMMARY:‘The City Without Jews’ silent film with live original music
DESCRIPTION:Columbia Jewish Federation\nCommunity Calendar\nhttps://jewishc
 olumbia.org/community-calendar/the-city-without-jews-silent-film-with-live
 -original-music-1728933898\n\nTBD
DTSTART;TZID=America/New_York:20250213T183000
DTEND;TZID=America/New_York:20250213T203000
END:VEVENT
END:VCALENDAR
