BEGIN:VCALENDAR
PRODID:-//eluceo/ical//2.0/EN
VERSION:2.0
CALSCALE:GREGORIAN
BEGIN:VEVENT
UID:54766dc0c2cf9ba008b2ddebe3c975de
DTSTAMP:20260424T172334Z
SUMMARY:Splash With PJ Library at Sesqui Park
DESCRIPTION:Columbia Jewish Federation\nCommunity Calendar\nhttps://jewishc
 olumbia.org/community-calendar/splash-with-pj-library-at-sesqui-park\n\nCo
 ol off and connect with community on Sunday\, June 29 from 11 AM–1 PM. E
 njoy water fun and a kosher-style lunch—plus\, Federation will cover you
 r parking fee!\n\n \n\nEvent Details\n\nDate: Sunday\, June 29\n\nTime: 1
 1:00 AM – 1:00 PM\n\nLocation: Sesquicentennial State Park\, 9564 Two No
 tch Rd\, Columbia\, SC 29223\n\n \n\nemail to RVSP or for questions:\n\np
 jlibrary@jewishcolumbia.org\n\n 
DTSTART;TZID=America/New_York:20250629T110000
DTEND;TZID=America/New_York:20250629T130000
END:VEVENT
END:VCALENDAR
