BEGIN:VCALENDAR
PRODID:-//eluceo/ical//2.0/EN
VERSION:2.0
CALSCALE:GREGORIAN
BEGIN:VEVENT
UID:7d795031bf07e5cdcd6193876339d05f
DTSTAMP:20260420T033631Z
SUMMARY:"Spiritual Journey from Germany via France to Israel"
DESCRIPTION:Columbia Jewish Federation\nCommunity Calendar\nhttps://jewishc
 olumbia.org/community-calendar/spiritual-journey-from-germany-via-france-t
 o-israel-1469479069\n\nIsraeli cellist Ina Esther Joost recounts her spiri
 tual journey from growing in post-Holocaust Germany to converting to Judai
 sm and making aliyah to Israel\, where she served as principal cellist of 
 the Jerusalem Symphony since 1989.
DTSTART;TZID=America/New_York:20170326T150000
DTEND;TZID=America/New_York:20170326T163000
END:VEVENT
END:VCALENDAR
