BEGIN:VCALENDAR
PRODID:-//eluceo/ical//2.0/EN
VERSION:2.0
CALSCALE:GREGORIAN
BEGIN:VEVENT
UID:26e8cdf86cb898b54db3e27054a808e6
DTSTAMP:20260424T201541Z
SUMMARY:Solomon-Tenenbaum Lectureship in Jewish Studies Featuring Deborah L
 ipstadt
DESCRIPTION:Columbia Jewish Federation\nCommunity Calendar\nhttps://jewishc
 olumbia.org/community-calendar/solomon-tenenbaum-lectureship-in-jewish-stu
 dies-featuring-deborah-lipstadt-1513616730\n\nDeborah E. Lipstadt\, a scho
 lar who won a famous legal battle over a Holocaust denier\, will speak abo
 ut modern anti-Semitism during the Solomon-Tenenbaum Lectureship in Jewish
  Studies on Jan. 28\, 2018 at the My Carolina Alumni Center. Lipstadt’s 
 book “Denial: Holocaust History on Trial\,” was adapted into the 2016 
 movie “Denial” starring Rachel Weisz and Tom Wilkinson. A book signing
  will follow Lipstadt’s talk. A signature event from the University of S
 outh Carolina College of Arts...
DTSTART;TZID=America/New_York:20180128T190000
DTEND;TZID=America/New_York:20180128T210000
END:VEVENT
END:VCALENDAR
