BEGIN:VCALENDAR
PRODID:-//eluceo/ical//2.0/EN
VERSION:2.0
CALSCALE:GREGORIAN
BEGIN:VEVENT
UID:0252cc01e9405ea491f74b7669a0c961
DTSTAMP:20260424T162428Z
SUMMARY:Beth Shalom Synagogue: Shabbat Services
DESCRIPTION:Columbia Jewish Federation\nCommunity Calendar\nhttps://jewishc
 olumbia.org/community-calendar/shabbat-services-1624987794\n\nAll are welc
 ome.  If you have not been fully vaccinated please wear a mask and keep ph
 ysically distanced.
DTSTART;TZID=America/New_York:20210703T100000
DTEND;TZID=America/New_York:20210703T120000
END:VEVENT
END:VCALENDAR
