BEGIN:VCALENDAR
PRODID:-//eluceo/ical//2.0/EN
VERSION:2.0
CALSCALE:GREGORIAN
BEGIN:VEVENT
UID:84b6039e793773803416cc297c9c9d6e
DTSTAMP:20260421T090107Z
SUMMARY:Chabad-Aleph House: Shabbat Morning Services
DESCRIPTION:Columbia Jewish Federation\nCommunity Calendar\nhttps://jewishc
 olumbia.org/community-calendar/shabbat-morning-services-1412084353\n\nA mi
 xture of traditional and modern services\, morning prayers begin at 9:30am
  followed by a round table Torah discussion from 10:45 - 11:30am\, followe
 d by the Torah reading and Mussaf. Kiddush is an integral part of communit
 y building where new friends are made and old friendships renewed.
DTSTART;TZID=America/New_York:20141004T093000
DTEND;TZID=America/New_York:20141004T123000
END:VEVENT
END:VCALENDAR
