BEGIN:VCALENDAR
PRODID:-//eluceo/ical//2.0/EN
VERSION:2.0
CALSCALE:GREGORIAN
BEGIN:VEVENT
UID:3ded19a4c4c36255e3e8c0fcf85ed462
DTSTAMP:20260419T173846Z
SUMMARY:Shabbat Eve Services
DESCRIPTION:Columbia Jewish Federation\nCommunity Calendar\nhttps://jewishc
 olumbia.org/community-calendar/shabbat-eve-services-1754412042\n\nJoin us 
 for Shabbat Evening Services.
DTSTART;TZID=America/New_York:20250829T190000
DTEND;TZID=America/New_York:20250829T200000
END:VEVENT
END:VCALENDAR
