BEGIN:VCALENDAR
PRODID:-//eluceo/ical//2.0/EN
VERSION:2.0
CALSCALE:GREGORIAN
BEGIN:VEVENT
UID:4117933a754aab6eec955b85e421d846
DTSTAMP:20260421T111223Z
SUMMARY:SC Jewish Advocacy Day
DESCRIPTION:Columbia Jewish Federation\nCommunity Calendar\nhttps://jewishc
 olumbia.org/community-calendar/sc-jewish-advocacy-day-1739856150\n\nJewish
  communities from across South Carolina—including Columbia\, Greenville\
 , Charleston\, and beyond—are coming together for a day of advocacy and 
 action at the State House. This is our opportunity to stand united\, speak
  directly with legislators\, and ensure Jewish voices are heard at the hig
 hest levels of government.
DTSTART;TZID=America/New_York:20250305T100000
DTEND;TZID=America/New_York:20250305T150000
END:VEVENT
END:VCALENDAR
