BEGIN:VCALENDAR
PRODID:-//eluceo/ical//2.0/EN
VERSION:2.0
CALSCALE:GREGORIAN
BEGIN:VEVENT
UID:7586aa28f6b052134da7989dcc6ed5da
DTSTAMP:20260421T010802Z
SUMMARY:Save the Date: Howard Weiss Memorial Golf Tournament
DESCRIPTION:Columbia Jewish Federation\nCommunity Calendar\nhttps://jewishc
 olumbia.org/community-calendar/save-the-date\n\nDetails TBA
DTSTART;TZID=America/New_York:20221028T090000
DTEND;TZID=America/New_York:20221028T160000
END:VEVENT
END:VCALENDAR
