BEGIN:VCALENDAR
PRODID:-//eluceo/ical//2.0/EN
VERSION:2.0
CALSCALE:GREGORIAN
BEGIN:VEVENT
UID:49f0179becbc22781cb20c2c46c975f4
DTSTAMP:20260424T033319Z
SUMMARY:Ft. Jackson Rosh HaShanah Services
DESCRIPTION:Columbia Jewish Federation\nCommunity Calendar\nhttps://jewishc
 olumbia.org/community-calendar/rosh-hashanah-services-1693365626\n\n10:00 
 a.m. Morning Service\n10:30 a.m. Children's Program\n4:30 p.m. Family Serv
 ice\n5:00 p.m. Tashlich
DTSTART;TZID=America/New_York:20230916T100000
DTEND;TZID=America/New_York:20230916T173000
END:VEVENT
END:VCALENDAR
