BEGIN:VCALENDAR
PRODID:-//eluceo/ical//2.0/EN
VERSION:2.0
CALSCALE:GREGORIAN
BEGIN:VEVENT
UID:d821237b358c57eef9144ae1a4af747c
DTSTAMP:20260421T010606Z
SUMMARY:Rosh Chodesh Society-Soul Maps
DESCRIPTION:Columbia Jewish Federation\nCommunity Calendar\nhttps://jewishc
 olumbia.org/community-calendar/rosh-chodesh-society-soul-maps-1412093850\n
 \nLESSON 3\nBeloved Friends:\nSynergizing and Sanctifying Love and Desire\
 nWe start out starry-eyed\, but is “passionate marriage” realistic in 
 the long\nterm? How can one relationship give us the comforting security w
 e crave\nfrom commitment as well as the spark of novelty and mystique that
  fuels\ndesire?\nThe mitzvah of taharat hamishpachah\, or “family purity
 \,” has long been\nshrouded in mystery. Yet these laws may just hold the
  secret to synchronizing—\nand sanctifying—these parad...
DTSTART;TZID=America/New_York:20150122T193000
DTEND;TZID=America/New_York:20150122T203000
END:VEVENT
END:VCALENDAR
