BEGIN:VCALENDAR
PRODID:-//eluceo/ical//2.0/EN
VERSION:2.0
CALSCALE:GREGORIAN
BEGIN:VEVENT
UID:4c4f34dd7308a05211bbe50f6c09c0d3
DTSTAMP:20260425T162307Z
SUMMARY:Rosh Chodesh Society
DESCRIPTION:Columbia Jewish Federation\nCommunity Calendar\nhttps://jewishc
 olumbia.org/community-calendar/rosh-chodesh-society-1566402024\n\nShabbat\
 , says the Talmud\, is G-d’s gift to the Jewish people— and what a gif
 t it is! It offers respite from labor and a break from the intrusion of ou
 r ubiquitous technologies. It allows family and community the time to conn
 ect and reflect without distraction. The warm smell of challah\, the glowi
 ng candles\, and the comfort of ritual all leave their imprint\, shaping f
 orever the meaning of family\, peoplehood\, and one’s place in the unive
 rse. Yet to many\, Shabbat is archaic\, restrictive\, a...
DTSTART;TZID=America/New_York:20200225T190000
DTEND;TZID=America/New_York:20200225T203000
END:VEVENT
END:VCALENDAR
