BEGIN:VCALENDAR
PRODID:-//eluceo/ical//2.0/EN
VERSION:2.0
CALSCALE:GREGORIAN
BEGIN:VEVENT
UID:f778ff3568eba424045adacf0c6a6073
DTSTAMP:20260419T142747Z
SUMMARY:Purim Masquerade Ball
DESCRIPTION:Columbia Jewish Federation\nCommunity Calendar\nhttps://jewishc
 olumbia.org/community-calendar/purim-masquerade-ball-1705507748\n\nPurim M
 asquerade Ball at the Kahn JCC\n\nFull Bar and Meal provided\n$50 per pers
 on for JCC members\n$75 per couple for JCC members\n$65 per person non-mem
 bers\nBabysitting provided at additional cost \nTickets can be purchased 
 at the JCC
DTSTART;TZID=America/New_York:20240323T193000
DTEND;TZID=America/New_York:20240323T223000
END:VEVENT
END:VCALENDAR
