BEGIN:VCALENDAR
PRODID:-//eluceo/ical//2.0/EN
VERSION:2.0
CALSCALE:GREGORIAN
BEGIN:VEVENT
UID:45ed0eb1c72c4de932c48e96c4817671
DTSTAMP:20260424T104344Z
SUMMARY:Program with Frank Baker
DESCRIPTION:Columbia Jewish Federation\nCommunity Calendar\nhttps://jewishc
 olumbia.org/community-calendar/program-with-frank-baker-1666372873\n\nDeta
 ils tbd
DTSTART;TZID=America/New_York:20230109T190000
DTEND;TZID=America/New_York:20230109T203000
END:VEVENT
END:VCALENDAR
