BEGIN:VCALENDAR
PRODID:-//eluceo/ical//2.0/EN
VERSION:2.0
CALSCALE:GREGORIAN
BEGIN:VEVENT
UID:7ec29bcf4c7621fbfb25b4fb1011c32a
DTSTAMP:20260423T054812Z
SUMMARY:Potluck in the Sukkah at Tree of Life
DESCRIPTION:Columbia Jewish Federation\nCommunity Calendar\nhttps://jewishc
 olumbia.org/community-calendar/potluck-in-the-sukkah-at-tree-of-life-15702
 05156\n\nJoin us at Tree of Life as we welcome Sukkot with a Potluck in th
 e Sukkah. Please bring a dish to share large enough to feed 4 people.RSVP 
 at https://www.tolsc.org/event/potluck-in-the-sukkah.html
DTSTART;TZID=America/New_York:20191013T180000
DTEND;TZID=America/New_York:20191013T200000
END:VEVENT
END:VCALENDAR
