BEGIN:VCALENDAR
PRODID:-//eluceo/ical//2.0/EN
VERSION:2.0
CALSCALE:GREGORIAN
BEGIN:VEVENT
UID:49e28f749f3b9e3e579b8de1d3c5966b
DTSTAMP:20260422T201925Z
SUMMARY:Posh Nosh Auction
DESCRIPTION:Columbia Jewish Federation\nCommunity Calendar\nhttps://jewishc
 olumbia.org/community-calendar/posh-nosh-auction-1646072624\n\nHonoring Ra
 bbi Dr. Meir Muller
DTSTART;TZID=America/New_York:20220403T170000
DTEND;TZID=America/New_York:20220403T200000
END:VEVENT
END:VCALENDAR
