BEGIN:VCALENDAR
PRODID:-//eluceo/ical//2.0/EN
VERSION:2.0
CALSCALE:GREGORIAN
BEGIN:VEVENT
UID:c131ab3dd5ddfd89468a157db24bba78
DTSTAMP:20260420T174552Z
SUMMARY:PJ Library Menorah Making Workshop
DESCRIPTION:Columbia Jewish Federation\nCommunity Calendar\nhttps://jewishc
 olumbia.org/community-calendar/pj-library-menorah-making-workshop\n\nCraft
 \, create\, and celebrate Hanukkah with PJ Library! Families will
  design their own menorahs\, enjoy stories and songs\, and take
  home a special piece of holiday joy.\n\nColumbia Jewish Federati
 on | 2711 Middleburg Dr. Suite 101\n\nFREE
DTSTART;TZID=America/New_York:20251123T130000
DTEND;TZID=America/New_York:20251123T150000
END:VEVENT
END:VCALENDAR
