BEGIN:VCALENDAR
PRODID:-//eluceo/ical//2.0/EN
VERSION:2.0
CALSCALE:GREGORIAN
BEGIN:VEVENT
UID:3fa369d66f88fa8983753c3f71a96432
DTSTAMP:20260419T230622Z
SUMMARY:Opening Night: Columbia Jewish Film Festival
DESCRIPTION:Columbia Jewish Federation\nCommunity Calendar\nhttps://jewishc
 olumbia.org/community-calendar/opening-night-columbia-jewish-film-festival
 -1538659461\n\nSammy Davis\, Jr. : I&#039\;ve Got to Be Me\nSunday\, Octob
 er 7\, 2018\n6:30 PM  8:00 PM\n100 Minutes / English\n\nSAMMY DAVIS JR.: I
 &rsquo\;VE GOTTA BE ME examines the life and art of an iconic entertainer 
 as he blazed across the country from the Depression era through the 1980s.
  Directed by Peabody Award winning filmmaker Sam Pollard\, this film focus
 es on Davis&rsquo\;s personal life and career while navigating the complex
 \, complicated and often contradictory journey to achieve the American Dre
 am in a time of...
DTSTART;TZID=America/New_York:20181007T173000
DTEND;TZID=America/New_York:20181007T203000
END:VEVENT
END:VCALENDAR
