BEGIN:VCALENDAR
PRODID:-//eluceo/ical//2.0/EN
VERSION:2.0
CALSCALE:GREGORIAN
BEGIN:VEVENT
UID:09ad6c46e1d664bceb952f0e675340ec
DTSTAMP:20260420T174040Z
SUMMARY:MLK Day of Service with CJF
DESCRIPTION:Columbia Jewish Federation\nCommunity Calendar\nhttps://jewishc
 olumbia.org/community-calendar/mlk-day-of-service-with-cjf\n\nMLK Day of S
 ervice with Columbia Jewish Federation. \n\nSignup here: \n\nMLK Day of 
 Service Registration
DTSTART;TZID=America/New_York:20260119T140000
DTEND;TZID=America/New_York:20260119T170000
END:VEVENT
END:VCALENDAR
