BEGIN:VCALENDAR
PRODID:-//eluceo/ical//2.0/EN
VERSION:2.0
CALSCALE:GREGORIAN
BEGIN:VEVENT
UID:ba98668ee5b8273cf0eb04f2f121fcdd
DTSTAMP:20260425T041638Z
SUMMARY:Menorah Workshop
DESCRIPTION:Columbia Jewish Federation\nCommunity Calendar\nhttps://jewishc
 olumbia.org/community-calendar/menorah-workshop-1572445876\n\nAnnual Chaba
 d + Home Depot Menorah Making Workshop\n12:45 PM\nRSVP MUST
DTSTART;TZID=America/New_York:20191215T124500
DTEND;TZID=America/New_York:20191215T134500
END:VEVENT
END:VCALENDAR
