BEGIN:VCALENDAR
PRODID:-//eluceo/ical//2.0/EN
VERSION:2.0
CALSCALE:GREGORIAN
BEGIN:VEVENT
UID:3b647d01d6c45a4ec9b990d96528021a
DTSTAMP:20260422T185252Z
SUMMARY:Lag B'Omer BBQ Party
DESCRIPTION:Columbia Jewish Federation\nCommunity Calendar\nhttps://jewishc
 olumbia.org/community-calendar/lag-bomer-bbq-party\n\nCome enjoy a kosher 
 hot dog dinner at the JCC on Lag B’Omer\, a Jewish day of joy and celebr
 ation!
DTSTART;TZID=America/New_York:20160526T180000
DTEND;TZID=America/New_York:20160526T200000
END:VEVENT
END:VCALENDAR
