BEGIN:VCALENDAR
PRODID:-//eluceo/ical//2.0/EN
VERSION:2.0
CALSCALE:GREGORIAN
BEGIN:VEVENT
UID:e84ad4fd285084a85e0cff175be90ec3
DTSTAMP:20260424T163938Z
SUMMARY:Lag Baomer Concert
DESCRIPTION:Columbia Jewish Federation\nCommunity Calendar\nhttps://jewishc
 olumbia.org/community-calendar/lag-baomer-concert-1472131779\n\nLag Baomer
  Concert
DTSTART;TZID=America/New_York:20170514T110000
DTEND;TZID=America/New_York:20170514T140000
END:VEVENT
END:VCALENDAR
