BEGIN:VCALENDAR
PRODID:-//eluceo/ical//2.0/EN
VERSION:2.0
CALSCALE:GREGORIAN
BEGIN:VEVENT
UID:6a21c3053c9b8e95b91b2d1a3e98e128
DTSTAMP:20260421T155245Z
SUMMARY:Lag B'aomer Celebration
DESCRIPTION:Columbia Jewish Federation\nCommunity Calendar\nhttps://jewishc
 olumbia.org/community-calendar/lag-baomer-celebration-1678910682\n\nFood\,
  music\, kids crafts!
DTSTART;TZID=America/New_York:20230509T170000
DTEND;TZID=America/New_York:20230509T200000
END:VEVENT
END:VCALENDAR
