BEGIN:VCALENDAR
PRODID:-//eluceo/ical//2.0/EN
VERSION:2.0
CALSCALE:GREGORIAN
BEGIN:VEVENT
UID:b83c84aa66998213a3e86e9c23c3d216
DTSTAMP:20260422T171620Z
SUMMARY:Kever Avot Service - Hebrew Benevolent Cemetery
DESCRIPTION:Columbia Jewish Federation\nCommunity Calendar\nhttps://jewishc
 olumbia.org/community-calendar/kever-avot-service---hebrew-benevolent-ceme
 tery-1691438820\n\nKever Avot Services at Hebrew Benevolent Cemetery
DTSTART;TZID=America/New_York:20230920T180000
DTEND;TZID=America/New_York:20230920T183000
END:VEVENT
END:VCALENDAR
