BEGIN:VCALENDAR
PRODID:-//eluceo/ical//2.0/EN
VERSION:2.0
CALSCALE:GREGORIAN
BEGIN:VEVENT
UID:4d68b4cbbae87968e2f265c1306c678c
DTSTAMP:20260420T071029Z
SUMMARY:Jewish Mindfulness & Meditation-A Path of Return
DESCRIPTION:Columbia Jewish Federation\nCommunity Calendar\nhttps://jewishc
 olumbia.org/community-calendar/jewish-mindfulness--meditation-a-path-of-re
 turn-1695143074\n\nLed by Meira Warshauer\, join us for this introduction 
 to Jewish Mindfulness & Mediation. All levels of experience welcome\; ligh
 t refreshments will be served.
DTSTART;TZID=America/New_York:20231015T100000
DTEND;TZID=America/New_York:20231015T113000
END:VEVENT
END:VCALENDAR
