BEGIN:VCALENDAR
PRODID:-//eluceo/ical//2.0/EN
VERSION:2.0
CALSCALE:GREGORIAN
BEGIN:VEVENT
UID:233f07c262fd87484bd23c5fe5a6129e
DTSTAMP:20260421T164727Z
SUMMARY:Jewish Film Festival
DESCRIPTION:Columbia Jewish Federation\nCommunity Calendar\nhttps://jewishc
 olumbia.org/community-calendar/jewish-film-festival-1705607157\n\nMovie:\n
 Queen Of The Deuce
DTSTART;TZID=America/New_York:20240113T190000
DTEND;TZID=America/New_York:20240113T210000
END:VEVENT
END:VCALENDAR
