BEGIN:VCALENDAR
PRODID:-//eluceo/ical//2.0/EN
VERSION:2.0
CALSCALE:GREGORIAN
BEGIN:VEVENT
UID:2e4dbe212c4f08133116080009f9f030
DTSTAMP:20260425T120224Z
SUMMARY:JCC: Youth Writing Workshop 
DESCRIPTION:Columbia Jewish Federation\nCommunity Calendar\nhttps://jewishc
 olumbia.org/community-calendar/jcc-youth-writing-workshop-1410797103\n\nMi
 ddle and High School students are invited to attend this workshop on writi
 ng and getting your work published led by PJ Library author Tilda Balsley.
   Tilda Balsley is the author of many children’s books\, including Let M
 y People Go!\, The Queen Who Saved Her People\, Maccabee!\, Oh No\, Jonah!
  and four Jewish-themed Sesame Street titles about Grover\, Big Bird and f
 riends.  Come learn the tricks of the trade.  Pizza Dinner will be served.
  
DTSTART;TZID=America/New_York:20141105T183000
DTEND;TZID=America/New_York:20141105T200000
END:VEVENT
END:VCALENDAR
