BEGIN:VCALENDAR
PRODID:-//eluceo/ical//2.0/EN
VERSION:2.0
CALSCALE:GREGORIAN
BEGIN:VEVENT
UID:6385c0da56bfd9e7a7bab3a8dff56388
DTSTAMP:20260423T175026Z
SUMMARY:JCC: Lights\, Cocoa\, Sufganiyot
DESCRIPTION:Columbia Jewish Federation\nCommunity Calendar\nhttps://jewishc
 olumbia.org/community-calendar/jcc-lights-cocoa-sufganiyot-1410797522\n\nJ
 oin the JCC as we celebrate Hanukkah as a community.  We'll have special h
 onorees light our super sized menorah and enjoy Hot Cocoa\, Jelly Doughnut
 s and fresh fried latkes.  Crafts will be available for children.  Menorah
  lighting at 5:20.\n
DTSTART;TZID=America/New_York:20141221T170000
DTEND;TZID=America/New_York:20141221T183000
END:VEVENT
END:VCALENDAR
