BEGIN:VCALENDAR
PRODID:-//eluceo/ical//2.0/EN
VERSION:2.0
CALSCALE:GREGORIAN
BEGIN:VEVENT
UID:553be0a14bdea2734b619255caaf4696
DTSTAMP:20260421T145848Z
SUMMARY:JCC: Kristallnacht-Voices of the Generations
DESCRIPTION:Columbia Jewish Federation\nCommunity Calendar\nhttps://jewishc
 olumbia.org/community-calendar/jcc-kristallnacht-voices-of-the-generations
 -1410796614\n\nIn 1953\, Julie Kohner's mother was the first non-celebrity
  featured on a national television program\, This Is Your Life\, and her s
 tory of surviving the Holocaust was a first for the early days of televisi
 on.  Julie will  share copy of this television program with us\, along wit
 h the experiences of her parents as survivors and herself as second genera
 tion.
DTSTART;TZID=America/New_York:20141109T183000
DTEND;TZID=America/New_York:20141109T193000
END:VEVENT
END:VCALENDAR
