BEGIN:VCALENDAR
PRODID:-//eluceo/ical//2.0/EN
VERSION:2.0
CALSCALE:GREGORIAN
BEGIN:VEVENT
UID:155e6818988c5f80a6d6638f05ae6527
DTSTAMP:20260420T033438Z
SUMMARY:Hillel Shabbat Dinner
DESCRIPTION:Columbia Jewish Federation\nCommunity Calendar\nhttps://jewishc
 olumbia.org/community-calendar/hillel-shabbat-dinner-1757009182\n\n• Fri
 day\, September 19th at 6:00 pm: Shabbat Dinner
DTSTART;TZID=America/New_York:20250919T180000
DTEND;TZID=America/New_York:20250919T200000
END:VEVENT
END:VCALENDAR
