BEGIN:VCALENDAR
PRODID:-//eluceo/ical//2.0/EN
VERSION:2.0
CALSCALE:GREGORIAN
BEGIN:VEVENT
UID:6c7746b3749d06f59057f295e92646a9
DTSTAMP:20260420T204412Z
SUMMARY:Hillel Ice Cream Social
DESCRIPTION:Columbia Jewish Federation\nCommunity Calendar\nhttps://jewishc
 olumbia.org/community-calendar/hillel-ice-cream-social-1755279583\n\nIce C
 ream Social with Hillel
DTSTART;TZID=America/New_York:20250829T190000
DTEND;TZID=America/New_York:20250829T200000
END:VEVENT
END:VCALENDAR
