BEGIN:VCALENDAR
PRODID:-//eluceo/ical//2.0/EN
VERSION:2.0
CALSCALE:GREGORIAN
BEGIN:VEVENT
UID:89bb3b9b8be630da2d71650708cf84c1
DTSTAMP:20260424T094526Z
SUMMARY:Hevra Kaddisha weekend
DESCRIPTION:Columbia Jewish Federation\nCommunity Calendar\nhttps://jewishc
 olumbia.org/community-calendar/hevra-kaddisha-weekend-1702405836\n\nKavod 
 v'Nichum is a national organization dedicated to teaching about the Jewish
  practices of preparing for death.  Their be joining us for e weekend of e
 nlightenment and learning.  There will be learning opportunities on Friday
  night\, Saturday and an instruction with questions on Sunday.
DTSTART;TZID=America/New_York:20240315T000000
DTEND;TZID=America/New_York:20240317T000000
END:VEVENT
END:VCALENDAR
