BEGIN:VCALENDAR
PRODID:-//eluceo/ical//2.0/EN
VERSION:2.0
CALSCALE:GREGORIAN
BEGIN:VEVENT
UID:e5bc263599dfc76e1656a20578ee2b00
DTSTAMP:20260421T164817Z
SUMMARY:Family Film at the Kahn JCC
DESCRIPTION:Columbia Jewish Federation\nCommunity Calendar\nhttps://jewishc
 olumbia.org/community-calendar/family-film-at-the-kahn-jcc-1681401684\n\nS
 pend an afternoon as a family watching a fun film at the Kahn JCC.
DTSTART;TZID=America/New_York:20230416T133000
DTEND;TZID=America/New_York:20230416T153000
END:VEVENT
END:VCALENDAR
