BEGIN:VCALENDAR
PRODID:-//eluceo/ical//2.0/EN
VERSION:2.0
CALSCALE:GREGORIAN
BEGIN:VEVENT
UID:237865a6d7b8ca98c720272c1ee56e5b
DTSTAMP:20260420T045836Z
SUMMARY:Disability Advocacy Day 2026 at the SC Statehouse
DESCRIPTION:Columbia Jewish Federation\nCommunity Calendar\nhttps://jewishc
 olumbia.org/community-calendar/disability-advocacy-day-2026-at-the-sc-stat
 ehouse\n\nJoin South Carolina Partnership of Disability Organizations and 
 Jewish Family Service at the SC Statehouse. Advocates from across South Ca
 rolina will gather at the State House to stand together for disability rig
 hts\, inclusive policies\, and stronger supports for people with disabilit
 ies and their families.\n\nLocation: SC State House. For more info\, visi
 t www.scpdo.org\n\nRegistration for Disability Advocacy Day 2026 on March 
 4th!
DTSTART;TZID=America/New_York:20260304T100000
DTEND;TZID=America/New_York:20260304T130000
END:VEVENT
END:VCALENDAR
