BEGIN:VCALENDAR
PRODID:-//eluceo/ical//2.0/EN
VERSION:2.0
CALSCALE:GREGORIAN
BEGIN:VEVENT
UID:5123f7e6db831610faa27618cfe0dff2
DTSTAMP:20260421T164717Z
SUMMARY:Crafting with the WRJ Tree of Life Sisterhood
DESCRIPTION:Columbia Jewish Federation\nCommunity Calendar\nhttps://jewishc
 olumbia.org/community-calendar/crafting-with-the-wrj-tree-of-life-sisterho
 od-1694720046\n\nA crafting event TBD.
DTSTART;TZID=America/New_York:20231119T140000
DTEND;TZID=America/New_York:20231119T160000
END:VEVENT
END:VCALENDAR
