BEGIN:VCALENDAR
PRODID:-//eluceo/ical//2.0/EN
VERSION:2.0
CALSCALE:GREGORIAN
BEGIN:VEVENT
UID:fb038fdbbdef73b6040d6a67634300b5
DTSTAMP:20260424T114548Z
SUMMARY:Community Yom Ha'atzmaut Celebration
DESCRIPTION:Columbia Jewish Federation\nCommunity Calendar\nhttps://jewishc
 olumbia.org/community-calendar/community-yom-haatzmaut-celebration-1676398
 706\n\nA community celebration to celebrate Israel's big birthday!
DTSTART;TZID=America/New_York:20230425T180000
DTEND;TZID=America/New_York:20230425T200000
END:VEVENT
END:VCALENDAR
