BEGIN:VCALENDAR
PRODID:-//eluceo/ical//2.0/EN
VERSION:2.0
CALSCALE:GREGORIAN
BEGIN:VEVENT
UID:271528324f30bf49ece0940f10365150
DTSTAMP:20260425T165711Z
SUMMARY:Community Havdalah
DESCRIPTION:Columbia Jewish Federation\nCommunity Calendar\nhttps://jewishc
 olumbia.org/community-calendar/community-havdalah\n\nCheck your mail for a
  postcard about this special Community Havdalah.
DTSTART;TZID=America/New_York:20211106T183000
DTEND;TZID=America/New_York:20211106T193000
END:VEVENT
END:VCALENDAR
