BEGIN:VCALENDAR
PRODID:-//eluceo/ical//2.0/EN
VERSION:2.0
CALSCALE:GREGORIAN
BEGIN:VEVENT
UID:fe678c3e91453544ceaf4744cf8d29b8
DTSTAMP:20260419T230732Z
SUMMARY:Columbia Jewish Film Festival (CJFF) Opening Event: The Museum
DESCRIPTION:Columbia Jewish Federation\nCommunity Calendar\nhttps://jewishc
 olumbia.org/community-calendar/columbia-jewish-film-festival-cjff-opening-
 event-the-museum\n\nSunday\, October 20\n11:00 am Opening Brunch\n12:30 pm
  screening of The Museum\n$40 | RSVP REQUIRED by Oct 16\nCall the Katie & 
 Irwin Kahn JCC (803)787-2023 to RSVP.\n\nCelebrate the opening of the 2019
  Columbia Jewish Film Festival at the Columbia Museum of Art. Ticket price
  includes:\n● a scrumptious brunch catered by Gourmet Rose\n● a welcom
 e address by the Deputy Director of the CMA\n● the screening of the Isra
 eli film\, The Museum\n● following the film\, tour the CMA galleries inc
 lu...
DTSTART;TZID=America/New_York:20191020T110000
DTEND;TZID=America/New_York:20191020T140000
END:VEVENT
END:VCALENDAR
