BEGIN:VCALENDAR
PRODID:-//eluceo/ical//2.0/EN
VERSION:2.0
CALSCALE:GREGORIAN
BEGIN:VEVENT
UID:2ce40b2cb76a110312a52e59aa63d15a
DTSTAMP:20260420T033651Z
SUMMARY:Columbia Jewish Film Festival
DESCRIPTION:Columbia Jewish Federation\nCommunity Calendar\nhttps://jewishc
 olumbia.org/community-calendar/columbia-jewish-film-festival-1506963399\n\
 nColumbia Jewish Film Festival : Full details at www.columbiajewishfilmfes
 tival.com
DTSTART;TZID=America/New_York:20171008T000000
DTEND;TZID=America/New_York:20171029T235500
END:VEVENT
END:VCALENDAR
