BEGIN:VCALENDAR
PRODID:-//eluceo/ical//2.0/EN
VERSION:2.0
CALSCALE:GREGORIAN
BEGIN:VEVENT
UID:db92595288b165b0337a073abfaf3c3b
DTSTAMP:20260425T130913Z
SUMMARY:CJFF: Shoelaces
DESCRIPTION:Columbia Jewish Federation\nCommunity Calendar\nhttps://jewishc
 olumbia.org/community-calendar/cjff-shoelaces\n\nSHOELACES\nOctober 27 at 
 3:00 pm\n(98 Minutes/Hebrew with English subtitles)\nWhen Reuven\, a surly
  mechanic\, reluctantly takes in his exuberant adult son\, Gadi\, who has 
 an intellectual disability\, both men find their worlds changed. Reuven is
  determined to make up for his shortcomings as a parent before it’s too 
 late\, while Gadi finds himself needing to take care of his father in retu
 rn. A heartwarming story full of love\, life\, and human connection.\n\nTr
 ailer: https://www.youtube.com/watch...
DTSTART;TZID=America/New_York:20191027T150000
DTEND;TZID=America/New_York:20191027T165000
END:VEVENT
END:VCALENDAR
