BEGIN:VCALENDAR
PRODID:-//eluceo/ical//2.0/EN
VERSION:2.0
CALSCALE:GREGORIAN
BEGIN:VEVENT
UID:5d2c29c0000f04e7cebc893194e24dd2
DTSTAMP:20260421T063252Z
SUMMARY:CJFF: Footstep of My Father
DESCRIPTION:Columbia Jewish Federation\nCommunity Calendar\nhttps://jewishc
 olumbia.org/community-calendar/cjff-footstep-of-my-father\n\nVeterans Day\
 , November 11 at the Katie & Irwin Kahn JCC at 7:00 pm \nPastor Chris Edmo
 nds\, the son of WWII hero Master Sergeant Roddie Edmonds\, and Stanlee St
 ahl\, Executive Vice President of the Jewish Foundation for the Righteous\
 , will introduce Footsteps of My Father. Following the film\, Edmonds will
  provide more intimate details of his father’s courage and bravery\, sav
 ing the lives of more than 200 Jewish American soldiers in a POW camp in G
 ermany in 1945. Stanlee Stahl will discuss her ...
DTSTART;TZID=America/New_York:20191111T190000
DTEND;TZID=America/New_York:20191111T210000
END:VEVENT
END:VCALENDAR
