BEGIN:VCALENDAR
PRODID:-//eluceo/ical//2.0/EN
VERSION:2.0
CALSCALE:GREGORIAN
BEGIN:VEVENT
UID:a27e735bec21bccfc20509a45598d7c0
DTSTAMP:20260421T105059Z
SUMMARY:CJF Distinguished Service Award
DESCRIPTION:Columbia Jewish Federation\nCommunity Calendar\nhttps://jewishc
 olumbia.org/community-calendar/cjf-distinguished-service-award\n\nEnjoy an
  evening of artwork by popular local Jewish artists and music by Israeli J
 azz guitarist Amos Hoffman as we celebrate Distinguished Service Award re
 cipient Lyssa Harvey. Catered by Blue Marlin. $36/person couvert\; $25 for
  young leaders under 40.
DTSTART;TZID=America/New_York:20141030T183000
DTEND;TZID=America/New_York:20141030T203000
END:VEVENT
END:VCALENDAR
