BEGIN:VCALENDAR
PRODID:-//eluceo/ical//2.0/EN
VERSION:2.0
CALSCALE:GREGORIAN
BEGIN:VEVENT
UID:5ca6a819bcbe9442ddfaf76f781e7c68
DTSTAMP:20260421T022744Z
SUMMARY:CJF-CCCF Wills University
DESCRIPTION:Columbia Jewish Federation\nCommunity Calendar\nhttps://jewishc
 olumbia.org/community-calendar/cjf-cccf-wills-university-1453761642\n\nAn 
 opportunity to learn how you can support your favorite charities in perpet
 uity through your will and other estate planning tools. 
DTSTART;TZID=America/New_York:20160328T183000
DTEND;TZID=America/New_York:20160328T200000
END:VEVENT
END:VCALENDAR
