BEGIN:VCALENDAR
PRODID:-//eluceo/ical//2.0/EN
VERSION:2.0
CALSCALE:GREGORIAN
BEGIN:VEVENT
UID:180c209fa51628a63dc40e3087f02187
DTSTAMP:20260421T134041Z
SUMMARY:CJDS Auction
DESCRIPTION:Columbia Jewish Federation\nCommunity Calendar\nhttps://jewishc
 olumbia.org/community-calendar/cjds-auction-1548350560\n\nCJDS Annual Auct
 ion- Via Online Charidy Platform
DTSTART;TZID=America/New_York:20190314T070000
DTEND;TZID=America/New_York:20190315T130000
END:VEVENT
END:VCALENDAR
